BEGIN:VCALENDAR
VERSION:2.0
PRODID:-//Top Management France - ECPv5.3.2.1//NONSGML v1.0//EN
CALSCALE:GREGORIAN
METHOD:PUBLISH
X-WR-CALNAME:Top Management France
X-ORIGINAL-URL:https://topmanagement.fr
X-WR-CALDESC:Events for Top Management France
BEGIN:VTIMEZONE
TZID:UTC
BEGIN:STANDARD
TZOFFSETFROM:+0000
TZOFFSETTO:+0000
TZNAME:UTC
DTSTART:20260101T000000
END:STANDARD
END:VTIMEZONE
BEGIN:VEVENT
DTSTART;TZID=UTC:20260611T190000
DTEND;TZID=UTC:20260611T235900
DTSTAMP:20260421T070137
CREATED:20260415T175529Z
LAST-MODIFIED:20260415T175529Z
UID:397423-1781204400-1781222340@topmanagement.fr
SUMMARY:Soirée Anniversaire : 10 ans de Connecting Pro People
DESCRIPTION:« 10 ans déjà. 10 ans de rencontres entre dirigeants d’entreprises\, où chacun s’enrichit de l’expérience de l’autre et affine sa vision stratégique. 10 ans à décloisonner les univers pour faire émerger des passerelles et des liens sincères et durables. Rejoignez-nous le 11 juin pour fêter cet anniversaire dans la joie et la bonne humeur. » Anne Sylvère\, fondatrice. \nParce que le sens des affaires n’exclut pas le plaisir d’être ensemble\, joignons l’utile à l’agréable. \nUne soirée placée sous le signe du partage\, de l’exigence et du plaisir d’être ensemble. À cette occasion\, Connecting Pro People accueillera aussi les dirigeants qui souhaitent découvrir et rejoindre son écosystème. \n📅 Jeudi 11 juin 2026🕰 19h00 à minuit📍 Paris 16e \nTarif : 90 € TTC \n👉 Je viens fêter ça
URL:https://topmanagement.fr/evenements/soiree-anniversaire-10-ans-de-connecting-pro-people/
ATTACH;FMTTYPE=image/jpeg:https://topmanagement.fr/wp-content/uploads/2026/04/visuel-anniversaire.jpg
ORGANIZER;CN="Connecting%20Pro%20People":MAILTO:contact@connectingpropeople.com
END:VEVENT
END:VCALENDAR